BEGIN:VCALENDAR
VERSION:2.0
PRODID:-//Bradley Parish Council//Meeting Calendar//EN
CALSCALE:GREGORIAN
METHOD:PUBLISH
BEGIN:VEVENT
UID:70476-20250918@bradleyparishcouncil.gov.uk
DTSTAMP:20260424T084600Z
DTSTART;VALUE=DATE:20250918
DTEND;VALUE=DATE:20250919
SUMMARY:Council Meeting – 18 September 2025
DESCRIPTION:Full Council Meeting\nView details: https://bradleyparishcouncil.gov.uk/meetings/18-september-2025/
URL:https://bradleyparishcouncil.gov.uk/meetings/18-september-2025/
END:VEVENT
END:VCALENDAR
